BEGIN:VCALENDAR
VERSION:2.0
PRODID:TU Chemnitz
METHOD:PUBLISH
X-WR-CALNAME:Veranstaltungen der TU Chemnitz
X-WR-TIMEZONE:Europe/Berlin
BEGIN:VEVENT
CLASS:PUBLIC
DTSTART;TZID="Europe/Berlin":20040426T093000
DTEND;TZID="Europe/Berlin":20040426T093000
LOCATION:Reichenhainer Str. 90\, Chemnitz (Zentr. Hörsaal- und Seminargebäude)
SUMMARY:Habilitation (Fakultät für Maschinenbau)
DESCRIPTION:Wissenschaftlicher Vortrag und Kolloquium zum Thema:\n"Heißrisse - Ihre Entstehung\, ihre Vermeidung"\nDr.-Ing. Jochen Schuster
ORGANIZER:MAILTO:khen@hrz.tu-chemnitz.de
UID:4430@www.tu-chemnitz.de
CREATED:20040227T150900Z
DTSTAMP:20210802T200942Z
END:VEVENT
END:VCALENDAR
