BEGIN:VCALENDAR
VERSION:2.0
PRODID:TU Chemnitz
METHOD:PUBLISH
X-WR-CALNAME:Veranstaltungen der TU Chemnitz
X-WR-TIMEZONE:Europe/Berlin
BEGIN:VEVENT
CLASS:PUBLIC
DTSTART;TZID="Europe/Berlin":20040318T160000
DTEND;TZID="Europe/Berlin":20040318T180000
LOCATION:Str. der Nationen 62\, Chemnitz (Böttcher-Bau)
SUMMARY:Otto Hahn zum 125. Geburtstag (Fakultät für Naturwissenschaften\, Institut für Chemie)
DESCRIPTION:Dr. Wolfgang Dedek\, Universität Leipzig\nProf. Dr. Günter Marx\, fon: 371 531-1477\, e-mail: guenter.marx@chemie.tu-chemnitz.de
ORGANIZER:MAILTO:erah@hrz.tu-chemnitz.de
UID:4400@www.tu-chemnitz.de
CREATED:20040217T095800Z
DTSTAMP:20210802T201030Z
END:VEVENT
END:VCALENDAR
