BEGIN:VCALENDAR
VERSION:2.0
PRODID:TU Chemnitz
METHOD:PUBLISH
X-WR-CALNAME:Veranstaltungen der TU Chemnitz
X-WR-TIMEZONE:Europe/Berlin
BEGIN:VEVENT
CLASS:PUBLIC
DTSTART;TZID="Europe/Berlin":20040415T160000
DTEND;TZID="Europe/Berlin":20040415T180000
LOCATION:Str. der Nationen 62\, Chemnitz (Böttcher-Bau)
SUMMARY:Die Hochtemperatur-Brennstoffzelle (SOFC) - eine Herausforderung seit Ostwald  (Fakultät für Naturwissenschaften\, Institut für Chemie gemeinsam mit dem Ortsverband der Gesellschaft Deutscher Chemiker)
DESCRIPTION:Prof. Dr. Ulrich Guth\, Kurt-Schwabe-Institut für Sensor- und Meßtechnik\, Ziegra-Knobelsdorf\nProf. Dr. R. Holze\, fon: 0371 531 1509\, e-mail: rudolf.holze@chemie.tu-chemnitz.de
ORGANIZER:MAILTO:erah@hrz.tu-chemnitz.de
UID:4390@www.tu-chemnitz.de
CREATED:20040217T081700Z
DTSTAMP:20210802T200943Z
END:VEVENT
END:VCALENDAR
