BEGIN:VCALENDAR
VERSION:2.0
PRODID:TU Chemnitz
METHOD:PUBLISH
X-WR-CALNAME:Veranstaltungen der TU Chemnitz
X-WR-TIMEZONE:Europe/Berlin
BEGIN:VEVENT
CLASS:PUBLIC
DTSTART;TZID="Europe/Berlin":20040217T200000
DTEND;TZID="Europe/Berlin":20040217T230000
LOCATION:Reichenhainer Str. 55\, Chemnitz (Mensa)
SUMMARY:TaC: Semesterabtaktkneipe (TU Chemnitz)
DESCRIPTION:Die Semesterabtaktkneipe steht an mit ein paar kleinen \nMutmachern fürs neue Semester. Billard\, Dart und auch \nTischkicker ist frei\, das Bier für 99cent und vielem \nmehr...www.treff-am-campus.de...Live ab 21.30..."Sex and the City"
ORGANIZER:MAILTO:made@hrz.tu-chemnitz.de
UID:4381@www.tu-chemnitz.de
CREATED:20040213T091800Z
DTSTAMP:20210802T201118Z
END:VEVENT
END:VCALENDAR
