BEGIN:VCALENDAR
VERSION:2.0
PRODID:TU Chemnitz
METHOD:PUBLISH
X-WR-CALNAME:Veranstaltungen der TU Chemnitz
X-WR-TIMEZONE:Europe/Berlin
BEGIN:VEVENT
CLASS:PUBLIC
DTSTART;TZID="Europe/Berlin":20040214T150000
DTEND;TZID="Europe/Berlin":20040214T180000
LOCATION:Reichenhainer Str. 55\, Chemnitz (Mensa)
SUMMARY:Bundesliga-Konferenzschaltung (TU Chemnitz)
DESCRIPTION:wie immer Sonnabends im TaC...Bundesliga in Konferenz
ORGANIZER:MAILTO:made@hrz.tu-chemnitz.de
UID:4375@www.tu-chemnitz.de
CREATED:20040211T170700Z
DTSTAMP:20210802T201120Z
END:VEVENT
END:VCALENDAR
