BEGIN:VCALENDAR
VERSION:2.0
PRODID:TU Chemnitz
METHOD:PUBLISH
X-WR-CALNAME:Veranstaltungen der TU Chemnitz
X-WR-TIMEZONE:Europe/Berlin
BEGIN:VEVENT
CLASS:PUBLIC
DTSTART;TZID="Europe/Berlin":20040227T200000
DTEND;TZID="Europe/Berlin":20040227T200000
LOCATION:Reichenhainer Str. 90\, Chemnitz (Zentr. Hörsaal- und Seminargebäude)
SUMMARY:Diareportage "abgefahren - 16 Jahre Weltreise"
DESCRIPTION:Sven Oyen\nSven Oyen\, Tel. 037324/82730
ORGANIZER:MAILTO:iroe@hrz.tu-chemnitz.de
UID:4360@www.tu-chemnitz.de
CREATED:20040205T140300Z
DTSTAMP:20210802T201126Z
END:VEVENT
END:VCALENDAR
