BEGIN:VCALENDAR
VERSION:2.0
PRODID:TU Chemnitz
METHOD:PUBLISH
X-WR-CALNAME:Veranstaltungen der TU Chemnitz
X-WR-TIMEZONE:Europe/Berlin
BEGIN:VEVENT
CLASS:PUBLIC
DTSTART;TZID="Europe/Berlin":20040606T103000
DTEND;TZID="Europe/Berlin":20040606T120000
LOCATION:Reichenhainer Str. 90\, Chemnitz (Zentr. Hörsaal- und Seminargebäude)
SUMMARY:SonntagsUni: Vortrag zum Thema "Chemnitz - eine Stadt mit Zukunft" (TU Chemnitz\, Professur Erwachsenenbildung und betriebliche Weiterbildung)
DESCRIPTION:Petra Wesseler (Beigeordnete des Dezernates Stadtentwicklung und Bauordnung\, Chemnitz)\nkatja.wagner@phil.tu-chemnitz.de
ORGANIZER:MAILTO:wagk@hrz.tu-chemnitz.de
UID:4357@www.tu-chemnitz.de
CREATED:20040204T145100Z
DTSTAMP:20210802T200810Z
END:VEVENT
END:VCALENDAR
