BEGIN:VCALENDAR
VERSION:2.0
PRODID:TU Chemnitz
METHOD:PUBLISH
X-WR-CALNAME:Veranstaltungen der TU Chemnitz
X-WR-TIMEZONE:Europe/Berlin
BEGIN:VEVENT
CLASS:PUBLIC
DTSTART;TZID="Europe/Berlin":20040425T103000
DTEND;TZID="Europe/Berlin":20040425T120000
LOCATION:Reichenhainer Str. 90\, Chemnitz (Zentr. Hörsaal- und Seminargebäude)
SUMMARY:SonntagsUni: Vortrag zum Thema "1001 Märchen aus dem Land des ewigen Lächelns. Oder\, die Chinesische Staatsoper: Der ganze Stolz eines Milliardenvolkes." (TU Chemnitz\, Professur Erwachsenenbildung und betriebliche Weiterbildung)
DESCRIPTION:Chen Xuli und Su Cong (TU Chemnitz)\nkatja.wagner@phil.tu-chemnitz.de
ORGANIZER:MAILTO:wagk@hrz.tu-chemnitz.de
UID:4354@www.tu-chemnitz.de
CREATED:20040204T143800Z
DTSTAMP:20210802T200937Z
END:VEVENT
END:VCALENDAR
