BEGIN:VCALENDAR
VERSION:2.0
PRODID:TU Chemnitz
METHOD:PUBLISH
X-WR-CALNAME:Veranstaltungen der TU Chemnitz
X-WR-TIMEZONE:Europe/Berlin
BEGIN:VEVENT
CLASS:PUBLIC
DTSTART;TZID="Europe/Berlin":20040630T171500
DTEND;TZID="Europe/Berlin":20040630T184500
LOCATION:Reichenhainer Str. 90\, Chemnitz (Zentr. Hörsaal- und Seminargebäude)
SUMMARY:Akustisch getriebene\, programmierbare Biochips (TU Chemnitz\, Institut für Physik)
DESCRIPTION:Gemeinsames Kolloquium mit Chemie!\nProf. Dr. A. Wixforth\, Universität Augsburg\, Lehrstuhl für Experimentalphysik I\nProf. Dr. Peter Häussler\, Tel. 3170
ORGANIZER:MAILTO:elhi@hrz.tu-chemnitz.de
UID:4333@www.tu-chemnitz.de
CREATED:20040202T141900Z
DTSTAMP:20210802T200800Z
END:VEVENT
END:VCALENDAR
