BEGIN:VCALENDAR
VERSION:2.0
PRODID:TU Chemnitz
METHOD:PUBLISH
X-WR-CALNAME:Veranstaltungen der TU Chemnitz
X-WR-TIMEZONE:Europe/Berlin
BEGIN:VEVENT
CLASS:PUBLIC
DTSTART;TZID="Europe/Berlin":20040609T171500
DTEND;TZID="Europe/Berlin":20040609T184500
LOCATION:Reichenhainer Str. 90\, Chemnitz (Zentr. Hörsaal- und Seminargebäude)
SUMMARY:Chemische Physik mit schweren Elektronen (TU Chemnitz\, Institut für Physik)
DESCRIPTION:Physikalisches Kolloquium!\nProf. Dr. Frank Steglich\, MPI for Chemical Physics of Solids\, Dresden\nProf. Dr. Peter Häussler\, Tel. 3140
ORGANIZER:MAILTO:elhi@hrz.tu-chemnitz.de
UID:4330@www.tu-chemnitz.de
CREATED:20040202T140700Z
DTSTAMP:20210802T200758Z
END:VEVENT
END:VCALENDAR
