BEGIN:VCALENDAR
VERSION:2.0
PRODID:TU Chemnitz
METHOD:PUBLISH
X-WR-CALNAME:Veranstaltungen der TU Chemnitz
X-WR-TIMEZONE:Europe/Berlin
BEGIN:VEVENT
CLASS:PUBLIC
DTSTART;TZID="Europe/Berlin":20040329T094500
DTEND;TZID="Europe/Berlin":20040329T130000
LOCATION:Reichenhainer Str. 55\, Chemnitz (Mensa)
SUMMARY:Bibliotheks- und Campusführung für neue ausländische Studierende (Universitätsverwaltung\, Internationales Universitätszentrum)
DESCRIPTION:Was ist das "NHG"? Wo kann ich Sport machen? Und wo Theaterkarten zu Studentenpreisen bekommen? \nWie benutze ich die Bibliothek? Diese und alle Fragen\, die ihr zu den Möglichkeiten am Campus habt\, werden wir gemeinsam klären!\nkeine Anmeldung nötig
ORGANIZER:MAILTO:inken@hrz.tu-chemnitz.de
UID:4259@www.tu-chemnitz.de
CREATED:20040113T155800Z
DTSTAMP:20210802T201025Z
END:VEVENT
END:VCALENDAR
