BEGIN:VCALENDAR
VERSION:2.0
PRODID:TU Chemnitz
METHOD:PUBLISH
X-WR-CALNAME:Veranstaltungen der TU Chemnitz
X-WR-TIMEZONE:Europe/Berlin
BEGIN:VEVENT
CLASS:PUBLIC
DTSTART;TZID="Europe/Berlin":19990401T210000
DTEND;TZID="Europe/Berlin":19990401T210000
LOCATION:Uni-Teil 3: Vettersstr. 64/66\, Chemnitz (Studentenwohnheim)
SUMMARY:Film: Full Metal Jacket (mittendrin - Filmclub der TU Chemnitz)
DESCRIPTION:<I>USA/GB 1987; Produzent\, Buch und Regie: Stanley Kubrick; 116 min.</I>\nmittendrin@tu-chemnitz.de
ORGANIZER:MAILTO:sul@hrz.tu-chemnitz.de
UID:425@www.tu-chemnitz.de
CREATED:19990326T144900Z
DTSTAMP:20210802T203440Z
END:VEVENT
END:VCALENDAR
