BEGIN:VCALENDAR
VERSION:2.0
PRODID:TU Chemnitz
METHOD:PUBLISH
X-WR-CALNAME:Veranstaltungen der TU Chemnitz
X-WR-TIMEZONE:Europe/Berlin
BEGIN:VEVENT
CLASS:PUBLIC
DTSTART;TZID="Europe/Berlin":20040204T210000
DTEND;TZID="Europe/Berlin":20040205T030000
LOCATION:Reichenhainer Str. 55\, Chemnitz (Mensa)
SUMMARY:Große ABTAKTPARTY von Studenten der phil.Fak +Moonlightdancing + 2 Bands + 3 DJ's
DESCRIPTION:Die Abtaktparty von Studenten der phil.Fak und Moonlightdancing:\n2Bands: MTV-Shootingstar "Etwas"\, "Space-Hobos". 3Floors: DJ-Ron\, DJ-LesPaul\, Dj-Taube.\nVVK: tägl. 12-14.00 Uhr im Foyer der Mensa od. Raabestr.\nNähere Infos: www.moonlightdancing.de\ninfo@moonlightdancing.de
ORGANIZER:MAILTO:daa@hrz.tu-chemnitz.de
UID:4248@www.tu-chemnitz.de
CREATED:20040112T212600Z
DTSTAMP:20210802T201117Z
END:VEVENT
END:VCALENDAR
