BEGIN:VCALENDAR
VERSION:2.0
PRODID:TU Chemnitz
METHOD:PUBLISH
X-WR-CALNAME:Veranstaltungen der TU Chemnitz
X-WR-TIMEZONE:Europe/Berlin
BEGIN:VEVENT
CLASS:PUBLIC
DTSTART;TZID="Europe/Berlin":20040116T133000
DTEND;TZID="Europe/Berlin":20040117T180000
LOCATION:Reichenhainer Str. 70\, Chemnitz (Rühlmann-Bau)
SUMMARY:Interkulturelles Training (Philosophische Fakultät\, IKK)
DESCRIPTION:Im Rahmen eines Seminars des Fachbereichs IKK bieten wir erstmalig in diesem Semester ein <Training> an\, das die Vorbereitung und Durchführung von Auslandsaufenthalten erleichtern soll.\nAnmeldung und weitere Infos bei Susann Krause.\nTobias Knecht\, Martin Büttner\, Susann Krause\nsusann.krause@s2001.tu-chemnitz.de
ORGANIZER:MAILTO:susak@hrz.tu-chemnitz.de
UID:4245@www.tu-chemnitz.de
CREATED:20040112T135500Z
DTSTAMP:20210802T201140Z
END:VEVENT
END:VCALENDAR
