BEGIN:VCALENDAR
VERSION:2.0
PRODID:TU Chemnitz
METHOD:PUBLISH
X-WR-CALNAME:Veranstaltungen der TU Chemnitz
X-WR-TIMEZONE:Europe/Berlin
BEGIN:VEVENT
CLASS:PUBLIC
DTSTART;TZID="Europe/Berlin":20040422T083000
DTEND;TZID="Europe/Berlin":20040422T130000
LOCATION:Reichenhainer Str. 90\, Chemnitz (Zentr. Hörsaal- und Seminargebäude)
SUMMARY:Girls's Day (TU Chemnitz\, Marketing/Öffentlichkeitsarbeit)
DESCRIPTION: Tel. 531 1638
ORGANIZER:MAILTO:iroe@hrz.tu-chemnitz.de
UID:4219@www.tu-chemnitz.de
CREATED:20040108T071800Z
DTSTAMP:20210802T200936Z
END:VEVENT
END:VCALENDAR
