BEGIN:VCALENDAR
VERSION:2.0
PRODID:TU Chemnitz
METHOD:PUBLISH
X-WR-CALNAME:Veranstaltungen der TU Chemnitz
X-WR-TIMEZONE:Europe/Berlin
BEGIN:VEVENT
CLASS:PUBLIC
DTSTART;TZID="Europe/Berlin":20040112T203000
DTEND;TZID="Europe/Berlin":20040112T211500
LOCATION:Reichenhainer Str. 41\, Chemnitz
SUMMARY:TIMEFACTOR - Intercultural Aspects in Perception of Time (AIESEC e.V.)
DESCRIPTION:- Projektvorstellung zum Thema "Zeitverständnis"\n- Video- und Websitepräsentation
ORGANIZER:MAILTO:haep@hrz.tu-chemnitz.de
UID:4206@www.tu-chemnitz.de
CREATED:20040105T204900Z
DTSTAMP:20210802T201144Z
END:VEVENT
END:VCALENDAR
