BEGIN:VCALENDAR
VERSION:2.0
PRODID:TU Chemnitz
METHOD:PUBLISH
X-WR-CALNAME:Veranstaltungen der TU Chemnitz
X-WR-TIMEZONE:Europe/Berlin
BEGIN:VEVENT
CLASS:PUBLIC
DTSTART;TZID="Europe/Berlin":20040109T210000
DTEND;TZID="Europe/Berlin":20040110T030000
LOCATION:PEB-Studentenkeller\, Reichenhainer Str.37
SUMMARY:SALSA-Night im PEB (PEB-Studentenkeller)
DESCRIPTION:  \nHeiße Rhythmen in kalten Winternächten!\nDJ Jose sorgt mit seiner Musik für \nausgelassene Stimmung und viel Spaß!\n\nDazu Cocktails und andere erfrischende Getränke\nzu studentenfreundlichen Preisen!\n  \n
ORGANIZER:MAILTO:thein@hrz.tu-chemnitz.de
UID:4201@www.tu-chemnitz.de
CREATED:20040105T092300Z
DTSTAMP:20210802T201147Z
END:VEVENT
END:VCALENDAR
