BEGIN:VCALENDAR
VERSION:2.0
PRODID:TU Chemnitz
METHOD:PUBLISH
X-WR-CALNAME:Veranstaltungen der TU Chemnitz
X-WR-TIMEZONE:Europe/Berlin
BEGIN:VEVENT
CLASS:PUBLIC
DTSTART;TZID="Europe/Berlin":20040128T190000
DTEND;TZID="Europe/Berlin":20040128T203000
LOCATION:Reichenhainer Str. 90\, Chemnitz (Zentr. Hörsaal- und Seminargebäude)
SUMMARY:Dr. Wolfgang Schäuble zu Gast an der TU Chemnitz: Deutsche Außenpolitik im 21. Jahrhundert (Professur für Internationale Politik an der TU Chemnitz Frau Prof. Dr. Beate Neuss)
DESCRIPTION:Bundesminister a.D. Dr. Wolfgang Schäuble MdB\nbeate.neuss@phil.tu-chemnitz.de\, Prof. Dr. Beate Neuss\, Tel. 531 8404
ORGANIZER:MAILTO:marck@hrz.tu-chemnitz.de
UID:4188@www.tu-chemnitz.de
CREATED:20031222T193900Z
DTSTAMP:20210802T201136Z
END:VEVENT
END:VCALENDAR
