BEGIN:VCALENDAR
VERSION:2.0
PRODID:TU Chemnitz
METHOD:PUBLISH
X-WR-CALNAME:Veranstaltungen der TU Chemnitz
X-WR-TIMEZONE:Europe/Berlin
BEGIN:VEVENT
CLASS:PUBLIC
DTSTART;TZID="Europe/Berlin":20040105T153000
DTEND;TZID="Europe/Berlin":20040105T170000
LOCATION:Str. der Nationen 62\, Chemnitz (Böttcher-Bau)
SUMMARY:83. Informatik-Kolloquium: A New Class of Operating Systems for the Data Center (Fakultät für Informatik)
DESCRIPTION:Alle interessierten Personen sind herzlich eingeladen!\nDr. Sven Graupner (Hewlett-Packard Laboratories Palo Alto\, California\, USA)\nkolloquium@informatik.tu-chemnitz.de
ORGANIZER:MAILTO:lro@hrz.tu-chemnitz.de
UID:4172@www.tu-chemnitz.de
CREATED:20031215T153500Z
DTSTAMP:20210802T201146Z
END:VEVENT
END:VCALENDAR
