BEGIN:VCALENDAR
VERSION:2.0
PRODID:TU Chemnitz
METHOD:PUBLISH
X-WR-CALNAME:Veranstaltungen der TU Chemnitz
X-WR-TIMEZONE:Europe/Berlin
BEGIN:VEVENT
CLASS:PUBLIC
DTSTART;TZID="Europe/Berlin":20031215T200000
DTEND;TZID="Europe/Berlin":20031215T230000
LOCATION:Vettersstr. 70/72\, Chemnitz (Studentenwohnheim)
SUMMARY:Weihnachtsfeier ET/IT (TU Chemnitz\, FSR ET/IT)
DESCRIPTION:Die legendäre Weihnachtsfeier der Studenten und Professoren der Fakultät ET/IT...\nfsretit@tu-chemnitz.de
ORGANIZER:MAILTO:saros@hrz.tu-chemnitz.de
UID:4170@www.tu-chemnitz.de
CREATED:20031215T105000Z
DTSTAMP:20210802T201216Z
END:VEVENT
END:VCALENDAR
