BEGIN:VCALENDAR
VERSION:2.0
PRODID:TU Chemnitz
METHOD:PUBLISH
X-WR-CALNAME:Veranstaltungen der TU Chemnitz
X-WR-TIMEZONE:Europe/Berlin
BEGIN:VEVENT
CLASS:PUBLIC
DTSTART;TZID="Europe/Berlin":20040127T190000
DTEND;TZID="Europe/Berlin":20040127T210000
LOCATION:Reichenhainer Str. 90\, Chemnitz (Zentr. Hörsaal- und Seminargebäude)
SUMMARY:Typographie - Gewand und Körper des Textes. Linguistische Überlegungen zu typographischer Gestaltung. (Philosophische Fakultät)
DESCRIPTION:Antrittsvortrag zur Ernennung als Privatdozent.\nDr. phil. habil. Hartmut Stöckl\nkarla.kebsch@phil.tu-chemnitz.de
ORGANIZER:MAILTO:keka@hrz.tu-chemnitz.de
UID:4162@www.tu-chemnitz.de
CREATED:20031211T101600Z
DTSTAMP:20210802T201148Z
END:VEVENT
END:VCALENDAR
