BEGIN:VCALENDAR
VERSION:2.0
PRODID:TU Chemnitz
METHOD:PUBLISH
X-WR-CALNAME:Veranstaltungen der TU Chemnitz
X-WR-TIMEZONE:Europe/Berlin
BEGIN:VEVENT
CLASS:PUBLIC
DTSTART;TZID="Europe/Berlin":20031209T190000
DTEND;TZID="Europe/Berlin":20031209T200000
LOCATION:Reichenhainer Str. 90\, Chemnitz (Zentr. Hörsaal- und Seminargebäude)
SUMMARY:SAXEED-Unternehmerpodium: Chemmedia AG (TU Chemnitz)
DESCRIPTION:Vortrag im Rahmen der Vorlesung Wachstumsmanagement. Alle Interessenten sind herzlich eingeladen.\nHerr Lars Fassmann\, Geschäftsführer\nProfessur Unternehmensgründung\, Dana Sieber\, 531-8070\, dana.sieber@mb.tu-chemnitz.de
ORGANIZER:MAILTO:schuea@hrz.tu-chemnitz.de
UID:4156@www.tu-chemnitz.de
CREATED:20031209T110300Z
DTSTAMP:20210802T201216Z
END:VEVENT
END:VCALENDAR
