BEGIN:VCALENDAR
VERSION:2.0
PRODID:TU Chemnitz
METHOD:PUBLISH
X-WR-CALNAME:Veranstaltungen der TU Chemnitz
X-WR-TIMEZONE:Europe/Berlin
BEGIN:VEVENT
CLASS:PUBLIC
DTSTART;TZID="Europe/Berlin":20031215T213000
DTEND;TZID="Europe/Berlin":20031215T230000
LOCATION:Reichenhainer Str. 55\, Chemnitz (Mensa)
SUMMARY:Cannes Rolle '03 - Die besten Werbefilme der Welt (MTP e.V.)
DESCRIPTION:MTP Chemnitz präsentiert im Rahmen des Stuwe-Weihnachtstag die Sieger des Werbefilmfestivals in Cannes 2003\, der ultimative Beweis das Werbung auch Spaß machen kann!
ORGANIZER:MAILTO:holo@hrz.tu-chemnitz.de
UID:4131@www.tu-chemnitz.de
CREATED:20031201T124800Z
DTSTAMP:20210802T201208Z
END:VEVENT
END:VCALENDAR
