BEGIN:VCALENDAR
VERSION:2.0
PRODID:TU Chemnitz
METHOD:PUBLISH
X-WR-CALNAME:Veranstaltungen der TU Chemnitz
X-WR-TIMEZONE:Europe/Berlin
BEGIN:VEVENT
CLASS:PUBLIC
DTSTART;TZID="Europe/Berlin":20031202T153000
DTEND;TZID="Europe/Berlin":20031202T173000
LOCATION:Str. der Nationen 62\, Chemnitz (Böttcher-Bau)
SUMMARY:Von intramolekular koordinierten Organoelement(IV)Verbindungen zu Carbenanalogen (Fakultät für Naturwissenschaften\, Institut für Chemie)
DESCRIPTION:Prof. Dr. Klaus Jurkschat\, Lehrstuhl für Anorganische Chemie II der Universität Dortmund\nProf. Dr. Heinrich Lang\, fon: 371 531-1200\, fax: 371 531-1833\, e-mail: heinrich.lang@chemie.tu-chemnitz.de
ORGANIZER:MAILTO:erah@hrz.tu-chemnitz.de
UID:4122@www.tu-chemnitz.de
CREATED:20031201T072300Z
DTSTAMP:20210802T201221Z
END:VEVENT
END:VCALENDAR
