BEGIN:VCALENDAR
VERSION:2.0
PRODID:TU Chemnitz
METHOD:PUBLISH
X-WR-CALNAME:Veranstaltungen der TU Chemnitz
X-WR-TIMEZONE:Europe/Berlin
BEGIN:VEVENT
CLASS:PUBLIC
DTSTART;TZID="Europe/Berlin":20031211T210000
DTEND;TZID="Europe/Berlin":20031211T210000
LOCATION:Vettersstr. 70/72\, Chemnitz (Studentenwohnheim)
SUMMARY:>>>Ab|sin|this|mus - 2. Absinth-Party<<< (FPM-Studentenclub)
DESCRIPTION:\nL'heure verte - Die grüne "Stunde"\n\nDas Original: Pernod\nDer Starke: Fee Verte Elixier\nDer Hammer: Mata Hari\nDer Extreme: l'Extrême d'Absente\n\nAbsinth-Cocktails wie "Tod am Nachmittag"\n\nPassende Musik:\nGenuß Absinth: Chill Out\nGenuß Wirkung: Partymucke
ORGANIZER:MAILTO:hoga@hrz.tu-chemnitz.de
UID:4095@www.tu-chemnitz.de
CREATED:20031125T183600Z
DTSTAMP:20210802T201216Z
END:VEVENT
END:VCALENDAR
