BEGIN:VCALENDAR
VERSION:2.0
PRODID:TU Chemnitz
METHOD:PUBLISH
X-WR-CALNAME:Veranstaltungen der TU Chemnitz
X-WR-TIMEZONE:Europe/Berlin
BEGIN:VEVENT
CLASS:PUBLIC
DTSTART;TZID="Europe/Berlin":20031124T193000
DTEND;TZID="Europe/Berlin":20031124T235900
LOCATION:Club der Kulturen\, Thüringer Weg 3 (im Kompass)
SUMMARY:Arabischer Abend (Club der Kulturen - Arabisch Club)
DESCRIPTION:Um d. ursprünglich für d. Ramadanfest vorgesehen Termin nicht ungenutzt zu lassen wollen wir uns treffen u. in arabischer Atmosphäre\, mit Tee&Musik über alles diskutieren\,was uns gerade einfällt. Wer eine Wasserpfeife besitzt\, möge diese bitte mitbringen!
ORGANIZER:MAILTO:thhae@hrz.tu-chemnitz.de
UID:4086@www.tu-chemnitz.de
CREATED:20031124T140300Z
DTSTAMP:20210802T201248Z
END:VEVENT
END:VCALENDAR
