BEGIN:VCALENDAR
VERSION:2.0
PRODID:TU Chemnitz
METHOD:PUBLISH
X-WR-CALNAME:Veranstaltungen der TU Chemnitz
X-WR-TIMEZONE:Europe/Berlin
BEGIN:VEVENT
CLASS:PUBLIC
DTSTART;TZID="Europe/Berlin":20031125T100000
DTEND;TZID="Europe/Berlin":20031125T230000
LOCATION:Reichenhainer Str. 55\, Chemnitz (Mensa)
SUMMARY:ab heute Kartenvorverkauf TaC: Johnnie Walker Whisky Verkostung (Student 5\,00 EUR) (TU Chemnitz)
DESCRIPTION:Kartenvorverkauf: Johnny Walker Black Label - Journey of taste - \n5 edle Whiskys\, Wissenwertes von Experten \nfür Einsteiger und Kenner. \nEinmalig: Studentenpreis 5\,00 EUR \nalle anderen 10\,00 EUR.\nJohnnie Walker Black Label
ORGANIZER:MAILTO:made@hrz.tu-chemnitz.de
UID:4085@www.tu-chemnitz.de
CREATED:20031124T111200Z
DTSTAMP:20210802T201246Z
END:VEVENT
END:VCALENDAR
