BEGIN:VCALENDAR
VERSION:2.0
PRODID:TU Chemnitz
METHOD:PUBLISH
X-WR-CALNAME:Veranstaltungen der TU Chemnitz
X-WR-TIMEZONE:Europe/Berlin
BEGIN:VEVENT
CLASS:PUBLIC
DTSTART;TZID="Europe/Berlin":20031209T171500
DTEND;TZID="Europe/Berlin":20031209T184500
LOCATION:Wilhelm-Raabe-Str. 43\, Chemnitz
SUMMARY:Psychologie-Kolloquium: "'I like him\, but I don't know why.' Der Einfluss von affektivem Lernen auf die Beurteilung von Personen" (Philosophische Fakultät\, Institut für Psychologie)
DESCRIPTION:PD Dr. Eva Walther\, TU Chemnitz\nProf. Dr. Gauggel\, Tel. 0371/531-6321
ORGANIZER:MAILTO:pfl@hrz.tu-chemnitz.de
UID:4065@www.tu-chemnitz.de
CREATED:20031118T135800Z
DTSTAMP:20210802T201212Z
END:VEVENT
END:VCALENDAR
