BEGIN:VCALENDAR
VERSION:2.0
PRODID:TU Chemnitz
METHOD:PUBLISH
X-WR-CALNAME:Veranstaltungen der TU Chemnitz
X-WR-TIMEZONE:Europe/Berlin
BEGIN:VEVENT
CLASS:PUBLIC
DTSTART;TZID="Europe/Berlin":20031210T213000
DTEND;TZID="Europe/Berlin":20031211T020000
LOCATION:PEB-Studentenkeller\, Reichenhainer Str.37
SUMMARY:PEB-Mittwochsdisco (PEB-Studentenkeller)
DESCRIPTION: \nTrotz Mensa: Party in den heiligen Hallen des PEB!\n\ndeshalb: EINTRITT FREI!!!\n\nSPECIAL: von 23-0 Uhr: Fire on Ice für 2 EUR!!!
ORGANIZER:MAILTO:thein@hrz.tu-chemnitz.de
UID:4051@www.tu-chemnitz.de
CREATED:20031117T144900Z
DTSTAMP:20210802T201215Z
END:VEVENT
END:VCALENDAR
