BEGIN:VCALENDAR
VERSION:2.0
PRODID:TU Chemnitz
METHOD:PUBLISH
X-WR-CALNAME:Veranstaltungen der TU Chemnitz
X-WR-TIMEZONE:Europe/Berlin
BEGIN:VEVENT
CLASS:PUBLIC
DTSTART;TZID="Europe/Berlin":20031117T110000
DTEND;TZID="Europe/Berlin":20031117T140000
LOCATION:Reichenhainer Str. 55\, Chemnitz (Mensa)
SUMMARY:letzte Chance: Karten-VVK für Baracuda-Party! (Baracuda-Artists)
DESCRIPTION:Ende des Karten-VVK für Baracuda-Party am Dienstag 18.11.\nOrt: Mensa / TaC\nZeit: 11-14 Uhr\nPreis: Euro 4\,-\n> fast ausverkauft!
ORGANIZER:MAILTO:makai@hrz.tu-chemnitz.de
UID:4041@www.tu-chemnitz.de
CREATED:20031114T162100Z
DTSTAMP:20210802T201259Z
END:VEVENT
END:VCALENDAR
