BEGIN:VCALENDAR
VERSION:2.0
PRODID:TU Chemnitz
METHOD:PUBLISH
X-WR-CALNAME:Veranstaltungen der TU Chemnitz
X-WR-TIMEZONE:Europe/Berlin
BEGIN:VEVENT
CLASS:PUBLIC
DTSTART;TZID="Europe/Berlin":20031114T210000
DTEND;TZID="Europe/Berlin":20031115T030000
LOCATION:PEB-Studentenkeller\, Reichenhainer Str.37
SUMMARY:SalsaNight im PEB (PEB-Studentenkeller)
DESCRIPTION:  \nDJ Jose legt wieder heiße lateinamerikanische\nRhythmen auf!\n\nKostenloser Tanzkurs ab 21Uhr!\n\nCocktails und andere erfrischende Getränke zu\ngewohnt günstigen Preisen gibt bei der\nBarbesatzung des PEB!  \n  \n\n
ORGANIZER:MAILTO:thein@hrz.tu-chemnitz.de
UID:4031@www.tu-chemnitz.de
CREATED:20031113T124600Z
DTSTAMP:20210802T201244Z
END:VEVENT
END:VCALENDAR
