BEGIN:VCALENDAR
VERSION:2.0
PRODID:TU Chemnitz
METHOD:PUBLISH
X-WR-CALNAME:Veranstaltungen der TU Chemnitz
X-WR-TIMEZONE:Europe/Berlin
BEGIN:VEVENT
CLASS:PUBLIC
DTSTART;TZID="Europe/Berlin":20031114T153000
DTEND;TZID="Europe/Berlin":20031114T170000
LOCATION:Reichenhainer Str. 90\, Chemnitz (Zentr. Hörsaal- und Seminargebäude)
SUMMARY:Physik - Wie Forschung Spaß macht: "Quasikristalle - oder warum man fünfeckige Fliesen schlecht verlegen kann" (Fakultät für Naturwissenschaften\, Institut für Physik / CFP)
DESCRIPTION:CFP / Prof. Schreiber
ORGANIZER:MAILTO:lfe@hrz.tu-chemnitz.de
UID:4022@www.tu-chemnitz.de
CREATED:20031113T092500Z
DTSTAMP:20210802T201245Z
END:VEVENT
END:VCALENDAR
