BEGIN:VCALENDAR
VERSION:2.0
PRODID:TU Chemnitz
METHOD:PUBLISH
X-WR-CALNAME:Veranstaltungen der TU Chemnitz
X-WR-TIMEZONE:Europe/Berlin
BEGIN:VEVENT
CLASS:PUBLIC
DTSTART;TZID="Europe/Berlin":20031120T210000
DTEND;TZID="Europe/Berlin":20031120T230000
LOCATION:Reichenhainer Str. 35/37 Keller 09126 Chemnitz
SUMMARY:[Kino im mittendrin]: Golden Lemons (Filmclub mittendrin)
DESCRIPTION:Einlass 20.30 Uhr\nBeginn 21.00 Uhr\nEintritt 3€\nwww.filmclub-mittendrin.de
ORGANIZER:MAILTO:fuh@hrz.tu-chemnitz.de
UID:4015@www.tu-chemnitz.de
CREATED:20031111T123400Z
DTSTAMP:20210802T201256Z
END:VEVENT
END:VCALENDAR
