BEGIN:VCALENDAR
VERSION:2.0
PRODID:TU Chemnitz
METHOD:PUBLISH
X-WR-CALNAME:Veranstaltungen der TU Chemnitz
X-WR-TIMEZONE:Europe/Berlin
BEGIN:VEVENT
CLASS:PUBLIC
DTSTART;TZID="Europe/Berlin":20031111T210000
DTEND;TZID="Europe/Berlin":20031111T235900
LOCATION:Vettersstr. 52/54\, Chemnitz (Studentenwohnheim)
SUMMARY:Smash the Discos!  (Windkanal)
DESCRIPTION:Punkrock\, Hardcore\, Ska & Rock`n`Roll vom Schallplattenunterhalter Eures Vertrauens
ORGANIZER:MAILTO:welz@hrz.tu-chemnitz.de
UID:3979@www.tu-chemnitz.de
CREATED:20031103T230300Z
DTSTAMP:20210802T201257Z
END:VEVENT
END:VCALENDAR
