BEGIN:VCALENDAR
VERSION:2.0
PRODID:TU Chemnitz
METHOD:PUBLISH
X-WR-CALNAME:Veranstaltungen der TU Chemnitz
X-WR-TIMEZONE:Europe/Berlin
BEGIN:VEVENT
CLASS:PUBLIC
DTSTART;TZID="Europe/Berlin":20031106T180000
DTEND;TZID="Europe/Berlin":20031106T193000
LOCATION:Reichenhainer Str. 90\, Chemnitz (Zentr. Hörsaal- und Seminargebäude)
SUMMARY:"Vier Stationen meines Lebens" (Philosophische Fakultät\, Erwachsenenbildung und betriebliche Weiterbildung)
DESCRIPTION:Am 6. November 2003 referiert der weltweit geachtete Historiker und anerkannte Buch- und Zeitungsautor Prof. W. Leonhard ab 18 Uhr im HS N 115\, Zentrales Hörsaal- und Seminargebäude der TU Chemnitz zum Thema “Vier Stationen meines Lebens”: Eintritt 2 €. \n\nProf. Wolfgang Leonhard\nThomas Pfunfke\, 2334\, thomas.pfunfke@phil.tu-chemnitz.de
ORGANIZER:MAILTO:pfth@hrz.tu-chemnitz.de
UID:3976@www.tu-chemnitz.de
CREATED:20031103T133300Z
DTSTAMP:20210802T201253Z
END:VEVENT
END:VCALENDAR
