BEGIN:VCALENDAR
VERSION:2.0
PRODID:TU Chemnitz
METHOD:PUBLISH
X-WR-CALNAME:Veranstaltungen der TU Chemnitz
X-WR-TIMEZONE:Europe/Berlin
BEGIN:VEVENT
CLASS:PUBLIC
DTSTART;TZID="Europe/Berlin":20031201T193000
DTEND;TZID="Europe/Berlin":20031201T220000
LOCATION:Reichenhainer Str. 70\, Chemnitz (Rühlmann-Bau)
SUMMARY:IAESTE Infoabend - Praktika und Studium im Ausland (IAESTE Chemnitz)
DESCRIPTION:Informationen über die Möglichkeit eines Auslandspraktikums im Jahr 2004 (IAESTE) sowie Studienmöglichkeiten im Ausland (IUK). Außerdem werden zurückgekehrte Chemnitzer Praktikanten über ihre Erlebnisse im Ausland berichten.\n\nIAESTE Chemnitz
ORGANIZER:MAILTO:rahe@hrz.tu-chemnitz.de
UID:3964@www.tu-chemnitz.de
CREATED:20031030T234100Z
DTSTAMP:20210802T201217Z
END:VEVENT
END:VCALENDAR
