BEGIN:VCALENDAR
VERSION:2.0
PRODID:TU Chemnitz
METHOD:PUBLISH
X-WR-CALNAME:Veranstaltungen der TU Chemnitz
X-WR-TIMEZONE:Europe/Berlin
BEGIN:VEVENT
CLASS:PUBLIC
DTSTART;TZID="Europe/Berlin":20040113T190000
DTEND;TZID="Europe/Berlin":20040113T203000
LOCATION:Reichenhainer Str. 90\, Chemnitz (Zentr. Hörsaal- und Seminargebäude)
SUMMARY:ENTFÄLLT: ›E-Culture‹ – Kultur als Dimension elektronisch vermittelter Kommunikation und Kooperation (Philosophische Fakultät\, Institut für Medienkommunikation und Interkulturelle Kommunikation (IMIK))
DESCRIPTION:Der angekündigte Vortrag wird zu einem späteren Zeitpunkt nachgeholt. Bitte beachten Sie die Ankündigungen im Netz.\nArne Weidemann (Interkulturelle Kommunikation\, TU Chemnitz)
ORGANIZER:MAILTO:ulba@hrz.tu-chemnitz.de
UID:3961@www.tu-chemnitz.de
CREATED:20031030T160900Z
DTSTAMP:20210802T201145Z
END:VEVENT
END:VCALENDAR
