BEGIN:VCALENDAR
VERSION:2.0
PRODID:TU Chemnitz
METHOD:PUBLISH
X-WR-CALNAME:Veranstaltungen der TU Chemnitz
X-WR-TIMEZONE:Europe/Berlin
BEGIN:VEVENT
CLASS:PUBLIC
DTSTART;TZID="Europe/Berlin":20031216T190000
DTEND;TZID="Europe/Berlin":20031216T203000
LOCATION:Reichenhainer Str. 90\, Chemnitz (Zentr. Hörsaal- und Seminargebäude)
SUMMARY:Interkulturelles Lernen bei Auslandsaufenthalten: Was Deutsche in Taiwan über das Gesichtwahren lernen (Philosophische Fakultät\, Institut für Medienkommunikation und Interkulturelle Kommunikation (IMIK))
DESCRIPTION:Doris Weidemann (Interkulturelle Kommunikation\, TU Chemnitz)
ORGANIZER:MAILTO:ulba@hrz.tu-chemnitz.de
UID:3959@www.tu-chemnitz.de
CREATED:20031030T160600Z
DTSTAMP:20210802T201217Z
END:VEVENT
END:VCALENDAR
