BEGIN:VCALENDAR
VERSION:2.0
PRODID:TU Chemnitz
METHOD:PUBLISH
X-WR-CALNAME:Veranstaltungen der TU Chemnitz
X-WR-TIMEZONE:Europe/Berlin
BEGIN:VEVENT
CLASS:PUBLIC
DTSTART;TZID="Europe/Berlin":20031107T193000
DTEND;TZID="Europe/Berlin":20031107T193000
LOCATION:Reichenhainer Str. 90\, Chemnitz (Zentr. Hörsaal- und Seminargebäude)
SUMMARY:Multimediashow über Griechenland (HELLAS-REISEN GmbH Dresden)
DESCRIPTION:Herr Krumnow\, Tel. 0351/4383610
ORGANIZER:MAILTO:iroe@hrz.tu-chemnitz.de
UID:3944@www.tu-chemnitz.de
CREATED:20031029T124300Z
DTSTAMP:20210802T201250Z
END:VEVENT
END:VCALENDAR
