BEGIN:VCALENDAR
VERSION:2.0
PRODID:TU Chemnitz
METHOD:PUBLISH
X-WR-CALNAME:Veranstaltungen der TU Chemnitz
X-WR-TIMEZONE:Europe/Berlin
BEGIN:VEVENT
CLASS:PUBLIC
DTSTART;TZID="Europe/Berlin":20031106T203000
DTEND;TZID="Europe/Berlin":20031106T233000
LOCATION:Kino (Reichenhainer Str. 35/37\, Keller)
SUMMARY:[Kino * mittendrin] Junta (OmU) (Filmclub »mittendrin«)
DESCRIPTION:Bechis inszeniert in einem beklemmenden Stil\, dessen Qualität in der Aussparung liegt. Eine Tür fällt zu\, ein Radio erklingt\, von der Folter zeigt die Leinwand wenig. Doch kaum etwas im Kino ist eindrücklicher als die Bilder im eigenen Kopf.\n
ORGANIZER:MAILTO:schneid@hrz.tu-chemnitz.de
UID:3939@www.tu-chemnitz.de
CREATED:20031029T121100Z
DTSTAMP:20210802T201248Z
END:VEVENT
END:VCALENDAR
