BEGIN:VCALENDAR
VERSION:2.0
PRODID:TU Chemnitz
METHOD:PUBLISH
X-WR-CALNAME:Veranstaltungen der TU Chemnitz
X-WR-TIMEZONE:Europe/Berlin
BEGIN:VEVENT
CLASS:PUBLIC
DTSTART;TZID="Europe/Berlin":20040121T190000
DTEND;TZID="Europe/Berlin":20040121T203000
LOCATION:Reichenhainer Str. 90\, Chemnitz (Zentr. Hörsaal- und Seminargebäude)
SUMMARY:„Von der Erbbiologie zur Rassenbiologie. Wissenschaftliche Rationalisierung der NS-Genozid im Fall des Protektorates Boehmen und Maehren (1939-1945)“. (TU Chemnitz\, Kolloquium der Professuren Geschichte des Mittelalters\, Wirtschafts- u. Sozialgeschichte und Europäische Regionalgeschichte)
DESCRIPTION:Studierende aller Semester und andere Interessierte sind herzlich eingeladen.\nMichal Simunek (Prag)
ORGANIZER:MAILTO:pev@hrz.tu-chemnitz.de
UID:3935@www.tu-chemnitz.de
CREATED:20031029T094300Z
DTSTAMP:20210802T201141Z
END:VEVENT
END:VCALENDAR
