BEGIN:VCALENDAR
VERSION:2.0
PRODID:TU Chemnitz
METHOD:PUBLISH
X-WR-CALNAME:Veranstaltungen der TU Chemnitz
X-WR-TIMEZONE:Europe/Berlin
BEGIN:VEVENT
CLASS:PUBLIC
DTSTART;TZID="Europe/Berlin":20040108T190000
DTEND;TZID="Europe/Berlin":20040108T203000
LOCATION:Reichenhainer Str. 90\, Chemnitz (Zentr. Hörsaal- und Seminargebäude)
SUMMARY:Frankenstein. Zur Geschichte einer Heilstätte zwischen den Nationen\, Systemen und Disziplinen (Kolloquium der Professuren Geschichte des Mittelalters\, Wirtschafts- u. Sozialgeschichte und Europäische Regionalgeschichte)
DESCRIPTION:Studierende aller Semester und andere Interessierte sind herzlih eingeladen.\nHD Dr. Benno Wagner (Siegen/Nemec - Decin)\nnorbert.schnitzler@phil.tu-chemnitz.de
ORGANIZER:MAILTO:pev@hrz.tu-chemnitz.de
UID:3934@www.tu-chemnitz.de
CREATED:20031029T094000Z
DTSTAMP:20210802T201142Z
END:VEVENT
END:VCALENDAR
