BEGIN:VCALENDAR
VERSION:2.0
PRODID:TU Chemnitz
METHOD:PUBLISH
X-WR-CALNAME:Veranstaltungen der TU Chemnitz
X-WR-TIMEZONE:Europe/Berlin
BEGIN:VEVENT
CLASS:PUBLIC
DTSTART;TZID="Europe/Berlin":20031211T190000
DTEND;TZID="Europe/Berlin":20031211T203000
LOCATION:Reichenhainer Str. 90\, Chemnitz (Zentr. Hörsaal- und Seminargebäude)
SUMMARY:"Wirtschaft der Slawen vor dem Beginn des Landesausbaus" (Kolloquium der Professuren Geschichte des Mittelalters\, Wirtschafts- u. Sozialgeschichte und Europäische Regionalgeschichte)
DESCRIPTION:Studenten aller Semester und andere Interessierte sind herzlich eingeladen\nDr. Matthias Hardt (Leipzig)\nnorbert.schnitzler@phil.tu-chemnitz.de
ORGANIZER:MAILTO:pev@hrz.tu-chemnitz.de
UID:3933@www.tu-chemnitz.de
CREATED:20031029T093700Z
DTSTAMP:20210802T201215Z
END:VEVENT
END:VCALENDAR
