BEGIN:VCALENDAR
VERSION:2.0
PRODID:TU Chemnitz
METHOD:PUBLISH
X-WR-CALNAME:Veranstaltungen der TU Chemnitz
X-WR-TIMEZONE:Europe/Berlin
BEGIN:VEVENT
CLASS:PUBLIC
DTSTART;TZID="Europe/Berlin":20031119T200000
DTEND;TZID="Europe/Berlin":20031119T220000
LOCATION:Industriemuseum Chemnitz / Cafe Y
SUMMARY:Heurekia! Forum: Finissage mit Andreas Schaal (Philosophische Fakultät\, Professur für Erwachsenenbildung und betriebliche Weiterbildung)
DESCRIPTION:Der Künstler Andreas Schaal bezieht sich in seinen Werken klar auf die Jetzt-Zeit\, das Hier und Heute\, in dem die Technik in all ihren Ausprägungen\, vom Uhrwerk bis zur Computerfestplatte\, integraler\, das heißt alltäglicher Bestandteil ist.\nAndreas Schaal
ORGANIZER:MAILTO:mric@hrz.tu-chemnitz.de
UID:3923@www.tu-chemnitz.de
CREATED:20031028T141800Z
DTSTAMP:20210802T201244Z
END:VEVENT
END:VCALENDAR
