BEGIN:VCALENDAR
VERSION:2.0
PRODID:TU Chemnitz
METHOD:PUBLISH
X-WR-CALNAME:Veranstaltungen der TU Chemnitz
X-WR-TIMEZONE:Europe/Berlin
BEGIN:VEVENT
CLASS:PUBLIC
DTSTART;TZID="Europe/Berlin":20031113T200000
DTEND;TZID="Europe/Berlin":20031113T220000
LOCATION:Industriemuseum Chemnitz / Cafe Y
SUMMARY:Heurekia! Forum: Musik und Innovation - Im EinKlang? (Philosophische Fakultät\, Professur Erwachsenenbildung und betriebliche Weiterbildung)
DESCRIPTION:Das Problem ist so alt wie die Technik an sich: Seit es dem Menschen möglich ist seine Geräuschumgebung mechanisch aufzuzeichnen\, wird an der optimalen Wiedergabe der Klänge gebastelt und gefeilt.\nAndreas Meißner
ORGANIZER:MAILTO:mric@hrz.tu-chemnitz.de
UID:3916@www.tu-chemnitz.de
CREATED:20031028T135700Z
DTSTAMP:20210802T201256Z
END:VEVENT
END:VCALENDAR
