BEGIN:VCALENDAR
VERSION:2.0
PRODID:TU Chemnitz
METHOD:PUBLISH
X-WR-CALNAME:Veranstaltungen der TU Chemnitz
X-WR-TIMEZONE:Europe/Berlin
BEGIN:VEVENT
CLASS:PUBLIC
DTSTART;TZID="Europe/Berlin":20031112T200000
DTEND;TZID="Europe/Berlin":20031112T220000
LOCATION:Industriemuseum Chemnitz / Cafe Y
SUMMARY:Heurekia! Forum: Kreativität bei VW? (Philosophische Fakultät\, Professur Erwachsenenbildung und betriebliche Weiterbildung)
DESCRIPTION:Die Zeiten in denen die Unterschiede einzelner Automarken so gravierend waren wie der zwischen einem Trabant und einem Porsche sind mittlerweile schon längst passé. Kreativität wird deshalb immer wichtiger.\nDr Axel Weber\, Personalleiter der Volkswagen Sachsen GmbH
ORGANIZER:MAILTO:mric@hrz.tu-chemnitz.de
UID:3915@www.tu-chemnitz.de
CREATED:20031028T135400Z
DTSTAMP:20210802T201250Z
END:VEVENT
END:VCALENDAR
