BEGIN:VCALENDAR
VERSION:2.0
PRODID:TU Chemnitz
METHOD:PUBLISH
X-WR-CALNAME:Veranstaltungen der TU Chemnitz
X-WR-TIMEZONE:Europe/Berlin
BEGIN:VEVENT
CLASS:PUBLIC
DTSTART;TZID="Europe/Berlin":20031111T200000
DTEND;TZID="Europe/Berlin":20031111T220000
LOCATION:Industriemuseum Chemnitz / Cafe Y
SUMMARY:Heurekia! Forum: "Es war einmal..." - Märchen für Erwachsene (Philosophische Fakultät\, Professur Erwachsenenbildung und betriebliche Weiterbildung)
DESCRIPTION:Frei nach der Devise „Was für unsere Kinder gut ist\, bekommt uns erst recht nicht schlecht.“ zaubert uns an diesem Abend Frau Bärbel Bitterlich (Jenaplanschule Markersbach) zurück in eine längst vergessene Welt aus Mythen und Geschichten.\nBärbel Bitterlich
ORGANIZER:MAILTO:mric@hrz.tu-chemnitz.de
UID:3914@www.tu-chemnitz.de
CREATED:20031028T135000Z
DTSTAMP:20210802T201247Z
END:VEVENT
END:VCALENDAR
