BEGIN:VCALENDAR
VERSION:2.0
PRODID:TU Chemnitz
METHOD:PUBLISH
X-WR-CALNAME:Veranstaltungen der TU Chemnitz
X-WR-TIMEZONE:Europe/Berlin
BEGIN:VEVENT
CLASS:PUBLIC
DTSTART;TZID="Europe/Berlin":20031110T200000
DTEND;TZID="Europe/Berlin":20031110T220000
LOCATION:Industriemuseum Chemnitz / Cafe Y
SUMMARY:Heurekia! Forum: Zwischen Bach und Samba - spannungsreicher Dialog zweier Musikwelten (Philosophische Fakultät\, Professur Erwachsenenbildung und betriebliche Weiterbildung)
DESCRIPTION:Das Programm der beiden Musiker Ulrich Thiem: Klassik\, Zeitgenössisches\, Blues und Alejandro Leon Pellegrin: Folk\, Jazz\, Latin Music beinhaltet Kompositionen J. S. Bachs ebenso wie südamerikanisch orientierte Jazz-Stücke.\nEintritt: 3 €
ORGANIZER:MAILTO:mric@hrz.tu-chemnitz.de
UID:3912@www.tu-chemnitz.de
CREATED:20031028T133100Z
DTSTAMP:20210802T201251Z
END:VEVENT
END:VCALENDAR
