BEGIN:VCALENDAR
VERSION:2.0
PRODID:TU Chemnitz
METHOD:PUBLISH
X-WR-CALNAME:Veranstaltungen der TU Chemnitz
X-WR-TIMEZONE:Europe/Berlin
BEGIN:VEVENT
CLASS:PUBLIC
DTSTART;TZID="Europe/Berlin":20031109T200000
DTEND;TZID="Europe/Berlin":20031109T220000
LOCATION:Industriemuseum Chemnitz / Cafe Y
SUMMARY:Heurekia! Forum: Kurzfilmabend mit der Chemnitzer Filmwerkstatt (Philosophische Fakultät\, Professur Erwachsenenbildung und betriebliche Weiterbildung)
DESCRIPTION:An diesem Abend präsentiert die Chemnitzer Filmwerkstatt handgemachtes Kino von Chemnitzer Filmemachern. Überaus sehenswerte Episoden aus 12 Jahren Video- und Filmproduktion werden über die Leinwand flimmern.\nEintritt: 2 €
ORGANIZER:MAILTO:mric@hrz.tu-chemnitz.de
UID:3911@www.tu-chemnitz.de
CREATED:20031028T132600Z
DTSTAMP:20210802T201253Z
END:VEVENT
END:VCALENDAR
