BEGIN:VCALENDAR
VERSION:2.0
PRODID:TU Chemnitz
METHOD:PUBLISH
X-WR-CALNAME:Veranstaltungen der TU Chemnitz
X-WR-TIMEZONE:Europe/Berlin
BEGIN:VEVENT
CLASS:PUBLIC
DTSTART;TZID="Europe/Berlin":20031029T200000
DTEND;TZID="Europe/Berlin":20031029T235900
LOCATION:Reichenhainer Str. 55\, Chemnitz (Mensa)
SUMMARY:Semestereröfnungskneipe im TaC: Dart\, Billard und Kicker frei und das Bier 1 EUr (TU Chemnitz)
DESCRIPTION:Wie immer zu Semesteranfang gibts eine Eröffnungskneipe und\ndas besondere daran: Billard\, Dart und Tischkicker ist kostenfrei und \ndas Bier gibts zu 1\,00 EUR den ganzen Abend lang.
ORGANIZER:MAILTO:made@hrz.tu-chemnitz.de
UID:3898@www.tu-chemnitz.de
CREATED:20031027T091400Z
DTSTAMP:20210802T201336Z
END:VEVENT
END:VCALENDAR
